BEGIN:VCALENDAR
VERSION:2.0
PRODID:-//Greenwood - Events - ECPv6.2.0.1//NONSGML v1.0//EN
CALSCALE:GREGORIAN
X-WR-CALNAME:Greenwood - Events
X-ORIGINAL-URL:https://greenwoodes.seattleschools.org/events/grade-4-5-ins
 trumental-performance/ics/
X-WR-CALDESC:Greenwood - Events
REFRESH-INTERVAL;VALUE=DURATION:PT1D
X-Robots-Tag:noindex
X-PUBLISHED-TTL:PT1D
BEGIN:VTIMEZONE
TZID:America/Vancouver
BEGIN:DAYLIGHT
TZOFFSETFROM:-0800
TZOFFSETTO:-0700
TZNAME:PDT
DTSTART:20260308T100000
END:DAYLIGHT
BEGIN:STANDARD
TZOFFSETFROM:-0700
TZOFFSETTO:-0800
TZNAME:PST
DTSTART:20261101T090000
END:STANDARD
END:VTIMEZONE
BEGIN:VEVENT
DTSTART;TZID=America/Vancouver:20260612T180000
DTEND;TZID=America/Vancouver:20260612T180000
DTSTAMP:20260422T184706Z
CREATED:20250902T090929Z
LAST-MODIFIED:20260126T130500Z
UID:https://greenwoodes.seattleschools.org/events/grade-4-5-instrumental-p
 erformance/
SUMMARY:Instrumental Performance
DESCRIPTION:Grade 4/5 Instrumental Performance
URL:https://greenwoodes.seattleschools.org/events/grade-4-5-instrumental-p
 erformance/
END:VEVENT
END:VCALENDAR